BEGIN:VCALENDAR
VERSION:2.0
PRODID:-//hacksw/handcal//NONSGML v1.0//EN
CALSCALE:GREGORIAN
BEGIN:VEVENT
DTSTART:20260424T170000Z
DTEND:20260424T180000Z
UID:135166-opensimworld.com
DTSTAMP:20260422T085335Z
LOCATION:login.digiworldz.com:8002:Spirit of the Wolf
URL;VALUE=URI: http://opensimworld.com/event/135166
SUMMARY:10AM-11AM LIVE SINGER EVAN 
END:VEVENT
END:VCALENDAR