BEGIN:VCALENDAR
VERSION:2.0
PRODID:-//hacksw/handcal//NONSGML v1.0//EN
CALSCALE:GREGORIAN
BEGIN:VEVENT
DTSTART:20260424T140000Z
DTEND:20260424T150000Z
UID:135165-opensimworld.com
DTSTAMP:20260422T000214Z
LOCATION:login.digiworldz.com:8002:Spirit of the Wolf
URL;VALUE=URI: http://opensimworld.com/event/135165
SUMMARY:7AM-1OAM ANNELIE FRIDAY GREEDY 
END:VEVENT
END:VCALENDAR