BEGIN:VCALENDAR
VERSION:2.0
PRODID:-//hacksw/handcal//NONSGML v1.0//EN
CALSCALE:GREGORIAN
BEGIN:VEVENT
DTSTART:20260505T200000Z
DTEND:20260505T210000Z
UID:135163-opensimworld.com
DTSTAMP:20260422T000214Z
LOCATION:login.digiworldz.com:8002:Moon Wolf
URL;VALUE=URI: http://opensimworld.com/event/135163
SUMMARY:YE HAWWW!!!!  Moon Wolf Saloon with Dj Niv 4-6pm!!
END:VEVENT
END:VCALENDAR