BEGIN:VCALENDAR
VERSION:2.0
PRODID:-//hacksw/handcal//NONSGML v1.0//EN
CALSCALE:GREGORIAN
BEGIN:VEVENT
DTSTART:20260420T180000Z
DTEND:20260420T190000Z
UID:135161-opensimworld.com
DTSTAMP:20260420T154436Z
LOCATION:hg.osgrid.org:80:Tropicana Tuneage
URL;VALUE=URI: http://opensimworld.com/event/135161
SUMMARY:Monday Music With DJ Troy
END:VEVENT
END:VCALENDAR