BEGIN:VCALENDAR
VERSION:2.0
PRODID:-//hacksw/handcal//NONSGML v1.0//EN
CALSCALE:GREGORIAN
BEGIN:VEVENT
DTSTART:20260423T170000Z
DTEND:20260423T180000Z
UID:135155-opensimworld.com
DTSTAMP:20260420T045850Z
LOCATION:hg.zetaworlds.com:80:Stark
URL;VALUE=URI: http://opensimworld.com/event/135155
SUMMARY:Fiona @ Stark Rainbow Club
END:VEVENT
END:VCALENDAR