BEGIN:VCALENDAR
VERSION:2.0
PRODID:-//hacksw/handcal//NONSGML v1.0//EN
CALSCALE:GREGORIAN
BEGIN:VEVENT
DTSTART:20260422T180000Z
DTEND:20260422T190000Z
UID:135150-opensimworld.com
DTSTAMP:20260420T045849Z
LOCATION:hg.zetaworlds.com:80:Stark
URL;VALUE=URI: http://opensimworld.com/event/135150
SUMMARY:Ruud @ Stark Studio 54
END:VEVENT
END:VCALENDAR