BEGIN:VCALENDAR
VERSION:2.0
PRODID:-//hacksw/handcal//NONSGML v1.0//EN
CALSCALE:GREGORIAN
BEGIN:VEVENT
DTSTART:20260421T170000Z
DTEND:20260421T180000Z
UID:135147-opensimworld.com
DTSTAMP:20260420T045851Z
LOCATION:hg.zetaworlds.com:80:Stark
URL;VALUE=URI: http://opensimworld.com/event/135147
SUMMARY:Fiona @ The Birdcage
END:VEVENT
END:VCALENDAR