BEGIN:VCALENDAR
VERSION:2.0
PRODID:-//hacksw/handcal//NONSGML v1.0//EN
CALSCALE:GREGORIAN
BEGIN:VEVENT
DTSTART:20260419T200000Z
DTEND:20260419T210000Z
UID:135139-opensimworld.com
DTSTAMP:20260419T225903Z
LOCATION:bridgemere.outworldz.net:8002:Paradise Lagoon
URL;VALUE=URI: http://opensimworld.com/event/135139
SUMMARY:Miss MunK Mixes
END:VEVENT
END:VCALENDAR