BEGIN:VCALENDAR
VERSION:2.0
PRODID:-//hacksw/handcal//NONSGML v1.0//EN
CALSCALE:GREGORIAN
BEGIN:VEVENT
DTSTART:20260510T060000Z
DTEND:20260510T070000Z
UID:135138-opensimworld.com
DTSTAMP:20260421T050030Z
LOCATION:alternatemetaverse.com:8002:Alternate Metaverse
URL;VALUE=URI: http://opensimworld.com/event/135138
SUMMARY:DJ Kitty @ Daily Late Night Party@The Party Stage~Alternate Metaverse
END:VEVENT
END:VCALENDAR