BEGIN:VCALENDAR
VERSION:2.0
PRODID:-//hacksw/handcal//NONSGML v1.0//EN
CALSCALE:GREGORIAN
BEGIN:VEVENT
DTSTART:20260510T050000Z
DTEND:20260510T060000Z
UID:135137-opensimworld.com
DTSTAMP:20260419T183820Z
LOCATION:alternatemetaverse.com:8002:Alternate Metaverse
URL;VALUE=URI: http://opensimworld.com/event/135137
SUMMARY:DJ Kitty @ Daily Late Night Party@The Party Stage~Alternate Metaverse
END:VEVENT
END:VCALENDAR