BEGIN:VCALENDAR
VERSION:2.0
PRODID:-//hacksw/handcal//NONSGML v1.0//EN
CALSCALE:GREGORIAN
BEGIN:VEVENT
DTSTART:20260426T050000Z
DTEND:20260426T060000Z
UID:135135-opensimworld.com
DTSTAMP:20260419T175410Z
LOCATION:alternatemetaverse.com:8002:Alternate Metaverse
URL;VALUE=URI: http://opensimworld.com/event/135135
SUMMARY:DJ Kitty @ Daily Late Night Party@The Party Stage~Alternate Metaverse
END:VEVENT
END:VCALENDAR