BEGIN:VCALENDAR
VERSION:2.0
PRODID:-//hacksw/handcal//NONSGML v1.0//EN
CALSCALE:GREGORIAN
BEGIN:VEVENT
DTSTART:20260513T040000Z
DTEND:20260513T050000Z
UID:135134-opensimworld.com
DTSTAMP:20260421T050030Z
LOCATION:alternatemetaverse.com:8002:Alternate Metaverse
URL;VALUE=URI: http://opensimworld.com/event/135134
SUMMARY:Dj Lumos @ The Night Owls Alternate Metaverse Landing Point
END:VEVENT
END:VCALENDAR