BEGIN:VCALENDAR
VERSION:2.0
PRODID:-//hacksw/handcal//NONSGML v1.0//EN
CALSCALE:GREGORIAN
BEGIN:VEVENT
DTSTART:20260509T090000Z
DTEND:20260509T100000Z
UID:135121-opensimworld.com
DTSTAMP:20260419T175410Z
LOCATION:alternatemetaverse.com:8002:Alternate Metaverse
URL;VALUE=URI: http://opensimworld.com/event/135121
SUMMARY:DJ TYLER @ The Moonlight
END:VEVENT
END:VCALENDAR