BEGIN:VCALENDAR
VERSION:2.0
PRODID:-//hacksw/handcal//NONSGML v1.0//EN
CALSCALE:GREGORIAN
BEGIN:VEVENT
DTSTART:20260419T180000Z
DTEND:20260419T190000Z
UID:135118-opensimworld.com
DTSTAMP:20260419T175410Z
LOCATION:hg.neverworldgrid.com:8002:KNWR Radio
URL;VALUE=URI: http://opensimworld.com/event/135118
SUMMARY:Neverworld Karaoke Party
END:VEVENT
END:VCALENDAR