BEGIN:VCALENDAR
VERSION:2.0
PRODID:-//hacksw/handcal//NONSGML v1.0//EN
CALSCALE:GREGORIAN
BEGIN:VEVENT
DTSTART:20260507T150000Z
DTEND:20260507T160000Z
UID:135114-opensimworld.com
DTSTAMP:20260419T175409Z
LOCATION:alternatemetaverse.com:8002:Alternate Metaverse
URL;VALUE=URI: http://opensimworld.com/event/135114
SUMMARY:BINGO SOCIAL  @ AMV LANDING POINT
END:VEVENT
END:VCALENDAR