BEGIN:VCALENDAR
VERSION:2.0
PRODID:-//hacksw/handcal//NONSGML v1.0//EN
CALSCALE:GREGORIAN
BEGIN:VEVENT
DTSTART:20260507T130000Z
DTEND:20260507T140000Z
UID:135112-opensimworld.com
DTSTAMP:20260419T175408Z
LOCATION:alternatemetaverse.com:8002:Alternate Metaverse
URL;VALUE=URI: http://opensimworld.com/event/135112
SUMMARY:DJ TYLER @ THE EARLY MORNING BREAKFAST SHOW
END:VEVENT
END:VCALENDAR