BEGIN:VCALENDAR
VERSION:2.0
PRODID:-//hacksw/handcal//NONSGML v1.0//EN
CALSCALE:GREGORIAN
BEGIN:VEVENT
DTSTART:20260429T090000Z
DTEND:20260429T100000Z
UID:135110-opensimworld.com
DTSTAMP:20260419T175409Z
LOCATION:alternatemetaverse.com:8002:Alternate Metaverse
URL;VALUE=URI: http://opensimworld.com/event/135110
SUMMARY:DJ DEBBIE@THE MOONLIGHT  AT THE AMV LANDING POINT
END:VEVENT
END:VCALENDAR