BEGIN:VCALENDAR
VERSION:2.0
PRODID:-//hacksw/handcal//NONSGML v1.0//EN
CALSCALE:GREGORIAN
BEGIN:VEVENT
DTSTART:20260419T130000Z
DTEND:20260419T140000Z
UID:135104-opensimworld.com
DTSTAMP:20260419T153841Z
LOCATION:alternatemetaverse.com:8002:Alternate Metaverse
URL;VALUE=URI: http://opensimworld.com/event/135104
SUMMARY:DJ DEBBIE  @ TheMorning Breakfast Show at AMV
END:VEVENT
END:VCALENDAR