BEGIN:VCALENDAR
VERSION:2.0
PRODID:-//hacksw/handcal//NONSGML v1.0//EN
CALSCALE:GREGORIAN
BEGIN:VEVENT
DTSTART:20260420T010000Z
DTEND:20260420T020000Z
UID:135103-opensimworld.com
DTSTAMP:20260419T163002Z
LOCATION:login.kamilianradio.com:8002:The Meepz
URL;VALUE=URI: http://opensimworld.com/event/135103
SUMMARY:Ice Cube Special
END:VEVENT
END:VCALENDAR