BEGIN:VCALENDAR
VERSION:2.0
PRODID:-//hacksw/handcal//NONSGML v1.0//EN
CALSCALE:GREGORIAN
BEGIN:VEVENT
DTSTART:20260420T180000Z
DTEND:20260420T190000Z
UID:135096-opensimworld.com
DTSTAMP:20260420T054629Z
LOCATION:tomis-world.de:8002:The Sun Club
URL;VALUE=URI: http://opensimworld.com/event/135096
SUMMARY:*Night Fever*
END:VEVENT
END:VCALENDAR