BEGIN:VCALENDAR
VERSION:2.0
PRODID:-//hacksw/handcal//NONSGML v1.0//EN
CALSCALE:GREGORIAN
BEGIN:VEVENT
DTSTART:20260419T220000Z
DTEND:20260419T230000Z
UID:135095-opensimworld.com
DTSTAMP:20260419T122035Z
LOCATION:hg.twiztidtimezgrid.com:8602:Cayman Jack
URL;VALUE=URI: http://opensimworld.com/event/135095
SUMMARY:2nd Half Alphabet Karaoke @ Salt Water Sanctuary
END:VEVENT
END:VCALENDAR