BEGIN:VCALENDAR
VERSION:2.0
PRODID:-//hacksw/handcal//NONSGML v1.0//EN
CALSCALE:GREGORIAN
BEGIN:VEVENT
DTSTART:20260419T210000Z
DTEND:20260419T220000Z
UID:135094-opensimworld.com
DTSTAMP:20260419T122035Z
LOCATION:hg.twiztidtimezgrid.com:8602:Cayman Jack
URL;VALUE=URI: http://opensimworld.com/event/135094
SUMMARY:Alphabet Karaoke (Song Names) in Style of Beachwear
END:VEVENT
END:VCALENDAR