BEGIN:VCALENDAR
VERSION:2.0
PRODID:-//hacksw/handcal//NONSGML v1.0//EN
CALSCALE:GREGORIAN
BEGIN:VEVENT
DTSTART:20260423T210000Z
DTEND:20260423T220000Z
UID:135090-opensimworld.com
DTSTAMP:20260424T001940Z
LOCATION:hg.neverworldgrid.com:8002:Lonely Lands
URL;VALUE=URI: http://opensimworld.com/event/135090
SUMMARY:Jadore Alan
END:VEVENT
END:VCALENDAR