BEGIN:VCALENDAR
VERSION:2.0
PRODID:-//hacksw/handcal//NONSGML v1.0//EN
CALSCALE:GREGORIAN
BEGIN:VEVENT
DTSTART:20260420T190000Z
DTEND:20260420T200000Z
UID:135089-opensimworld.com
DTSTAMP:20260420T191959Z
LOCATION:hg.neverworldgrid.com:8002:Advantis
URL;VALUE=URI: http://opensimworld.com/event/135089
SUMMARY:DJ Azraella
END:VEVENT
END:VCALENDAR