BEGIN:VCALENDAR
VERSION:2.0
PRODID:-//hacksw/handcal//NONSGML v1.0//EN
CALSCALE:GREGORIAN
BEGIN:VEVENT
DTSTART:20260421T183000Z
DTEND:20260421T193000Z
UID:135066-opensimworld.com
DTSTAMP:20260421T115926Z
LOCATION:bloodmoonpack.com:8002:Event Beach Club
URL;VALUE=URI: http://opensimworld.com/event/135066
SUMMARY:Event Beach Club @ DJ LAURE
END:VEVENT
END:VCALENDAR