BEGIN:VCALENDAR
VERSION:2.0
PRODID:-//hacksw/handcal//NONSGML v1.0//EN
CALSCALE:GREGORIAN
BEGIN:VEVENT
DTSTART:20260420T200000Z
DTEND:20260420T210000Z
UID:135065-opensimworld.com
DTSTAMP:20260420T210210Z
LOCATION:newlifeitaly.com:8002:NewLifeWelcome
URL;VALUE=URI: http://opensimworld.com/event/135065
SUMMARY:DJ2 LIVE
END:VEVENT
END:VCALENDAR