BEGIN:VCALENDAR
VERSION:2.0
PRODID:-//hacksw/handcal//NONSGML v1.0//EN
CALSCALE:GREGORIAN
BEGIN:VEVENT
DTSTART:20260409T010000Z
DTEND:20260409T020000Z
UID:134499-opensimworld.com
DTSTAMP:20260426T040725Z
LOCATION:login.digiworldz.com:8002:Rock City
URL;VALUE=URI: http://opensimworld.com/event/134499
SUMMARY: Eternity MAIN Venue PROUDLY Presents LIVE Performer Evan Williams!
END:VEVENT
END:VCALENDAR