BEGIN:VCALENDAR
VERSION:2.0
PRODID:-//hacksw/handcal//NONSGML v1.0//EN
CALSCALE:GREGORIAN
BEGIN:VEVENT
DTSTART:20260502T100000Z
DTEND:20260502T110000Z
UID:134346-opensimworld.com
DTSTAMP:20260419T121723Z
LOCATION:alternatemetaverse.com:8002:Alternate Metaverse
URL;VALUE=URI: http://opensimworld.com/event/134346
SUMMARY:DJ TYLER @ The Moonlight
END:VEVENT
END:VCALENDAR