BEGIN:VCALENDAR
VERSION:2.0
PRODID:-//hacksw/handcal//NONSGML v1.0//EN
CALSCALE:GREGORIAN
BEGIN:VEVENT
DTSTART:20260503T130000Z
DTEND:20260503T140000Z
UID:134344-opensimworld.com
DTSTAMP:20260419T121720Z
LOCATION:alternatemetaverse.com:8002:Alternate Metaverse
URL;VALUE=URI: http://opensimworld.com/event/134344
SUMMARY:DJ DEBBIE  @ TheMorning Breakfast Show at AMV
END:VEVENT
END:VCALENDAR