BEGIN:VCALENDAR
VERSION:2.0
PRODID:-//hacksw/handcal//NONSGML v1.0//EN
CALSCALE:GREGORIAN
BEGIN:VEVENT
DTSTART:20260326T210000Z
DTEND:20260326T220000Z
UID:134259-opensimworld.com
DTSTAMP:20260422T022550Z
LOCATION:hg.osgrid.org:80:Club Exile
URL;VALUE=URI: http://opensimworld.com/event/134259
SUMMARY:rock  n  roll  party  with  dejay  kenny 
END:VEVENT
END:VCALENDAR