BEGIN:VCALENDAR
VERSION:2.0
PRODID:-//hacksw/handcal//NONSGML v1.0//EN
CALSCALE:GREGORIAN
BEGIN:VEVENT
DTSTART:20260326T185500Z
DTEND:20260326T195500Z
UID:134252-opensimworld.com
DTSTAMP:20260422T022551Z
LOCATION:hg.osgrid.org:80:Club Exile
URL;VALUE=URI: http://opensimworld.com/event/134252
SUMMARY:50ties  party  with  dejay  kenny  
END:VEVENT
END:VCALENDAR