BEGIN:VCALENDAR
VERSION:2.0
PRODID:-//hacksw/handcal//NONSGML v1.0//EN
CALSCALE:GREGORIAN
BEGIN:VEVENT
DTSTART:20260324T205500Z
DTEND:20260324T215500Z
UID:134228-opensimworld.com
DTSTAMP:20260422T022549Z
LOCATION:hg.osgrid.org:80:Club Exile
URL;VALUE=URI: http://opensimworld.com/event/134228
SUMMARY:foam  party  with  dejay  kenny  
END:VEVENT
END:VCALENDAR