BEGIN:VCALENDAR
VERSION:2.0
PRODID:-//hacksw/handcal//NONSGML v1.0//EN
CALSCALE:GREGORIAN
BEGIN:VEVENT
DTSTART:20260329T220000Z
DTEND:20260329T230000Z
UID:134093-opensimworld.com
DTSTAMP:20260422T155352Z
LOCATION:equinoxgrid.com:8002:EQG Club Equinox
URL;VALUE=URI: http://opensimworld.com/event/134093
SUMMARY:Mar 2026 EOM Tribute Party
END:VEVENT
END:VCALENDAR