BEGIN:VCALENDAR
VERSION:2.0
PRODID:-//hacksw/handcal//NONSGML v1.0//EN
CALSCALE:GREGORIAN
BEGIN:VEVENT
DTSTART:20260322T090000Z
DTEND:20260322T100000Z
UID:134075-opensimworld.com
DTSTAMP:20260423T075722Z
LOCATION:alternatemetaverse.com:8002:Skinny Dip Beach
URL;VALUE=URI: http://opensimworld.com/event/134075
SUMMARY:DJ YANA @ SKINNY DIP BEACH
END:VEVENT
END:VCALENDAR