BEGIN:VCALENDAR
VERSION:2.0
PRODID:-//hacksw/handcal//NONSGML v1.0//EN
CALSCALE:GREGORIAN
BEGIN:VEVENT
DTSTART:20260319T194500Z
DTEND:20260319T204500Z
UID:133947-opensimworld.com
DTSTAMP:20260422T022545Z
LOCATION:hg.osgrid.org:80:Club Exile
URL;VALUE=URI: http://opensimworld.com/event/133947
SUMMARY:BABYKATS  EWZZDAY  
END:VEVENT
END:VCALENDAR