BEGIN:VCALENDAR
VERSION:2.0
PRODID:-//hacksw/handcal//NONSGML v1.0//EN
CALSCALE:GREGORIAN
BEGIN:VEVENT
DTSTART:20260319T191500Z
DTEND:20260319T201500Z
UID:133946-opensimworld.com
DTSTAMP:20260422T022546Z
LOCATION:hg.osgrid.org:80:Club Exile
URL;VALUE=URI: http://opensimworld.com/event/133946
SUMMARY:BABYKATS  REZZDAY 
END:VEVENT
END:VCALENDAR