BEGIN:VCALENDAR
VERSION:2.0
PRODID:-//hacksw/handcal//NONSGML v1.0//EN
CALSCALE:GREGORIAN
BEGIN:VEVENT
DTSTART:20260317T205500Z
DTEND:20260317T215500Z
UID:133911-opensimworld.com
DTSTAMP:20260422T022545Z
LOCATION:hg.osgrid.org:80:Club Exile
URL;VALUE=URI: http://opensimworld.com/event/133911
SUMMARY: st  patricks  party kenny  rocks  the   paddy
END:VEVENT
END:VCALENDAR