BEGIN:VCALENDAR
VERSION:2.0
PRODID:-//hacksw/handcal//NONSGML v1.0//EN
CALSCALE:GREGORIAN
BEGIN:VEVENT
DTSTART:20260317T195500Z
DTEND:20260317T205500Z
UID:133910-opensimworld.com
DTSTAMP:20260422T022545Z
LOCATION:hg.osgrid.org:80:Club Exile
URL;VALUE=URI: http://opensimworld.com/event/133910
SUMMARY:rock  the  paddy  party  with dejay  kenny
END:VEVENT
END:VCALENDAR