BEGIN:VCALENDAR
VERSION:2.0
PRODID:-//hacksw/handcal//NONSGML v1.0//EN
CALSCALE:GREGORIAN
BEGIN:VEVENT
DTSTART:20260312T215500Z
DTEND:20260312T225500Z
UID:133686-opensimworld.com
DTSTAMP:20260422T022546Z
LOCATION:hg.osgrid.org:80:Club Exile
URL;VALUE=URI: http://opensimworld.com/event/133686
SUMMARY:kenny  unstopable   
END:VEVENT
END:VCALENDAR