BEGIN:VCALENDAR
VERSION:2.0
PRODID:-//hacksw/handcal//NONSGML v1.0//EN
CALSCALE:GREGORIAN
BEGIN:VEVENT
DTSTART:20260312T205400Z
DTEND:20260312T215400Z
UID:133685-opensimworld.com
DTSTAMP:20260422T022547Z
LOCATION:hg.osgrid.org:80:Club Exile
URL;VALUE=URI: http://opensimworld.com/event/133685
SUMMARY:summerbreeze  with  dejay   kenny 
END:VEVENT
END:VCALENDAR