BEGIN:VCALENDAR
VERSION:2.0
PRODID:-//hacksw/handcal//NONSGML v1.0//EN
CALSCALE:GREGORIAN
BEGIN:VEVENT
DTSTART:20260312T185500Z
DTEND:20260312T195500Z
UID:133683-opensimworld.com
DTSTAMP:20260422T022547Z
LOCATION:hg.osgrid.org:80:Club Exile
URL;VALUE=URI: http://opensimworld.com/event/133683
SUMMARY:the  crazy  kenny  show  dj  kenny  goes  wild  at   club  exile  at  noon  slt  
END:VEVENT
END:VCALENDAR