BEGIN:VCALENDAR
VERSION:2.0
PRODID:-//hacksw/handcal//NONSGML v1.0//EN
CALSCALE:GREGORIAN
BEGIN:VEVENT
DTSTART:20260310T210000Z
DTEND:20260310T220000Z
UID:133635-opensimworld.com
DTSTAMP:20260422T022547Z
LOCATION:hg.osgrid.org:80:Club Exile
URL;VALUE=URI: http://opensimworld.com/event/133635
SUMMARY: disco time with  kenny  
END:VEVENT
END:VCALENDAR