BEGIN:VCALENDAR
VERSION:2.0
PRODID:-//hacksw/handcal//NONSGML v1.0//EN
CALSCALE:GREGORIAN
BEGIN:VEVENT
DTSTART:20260310T191500Z
DTEND:20260310T201500Z
UID:133633-opensimworld.com
DTSTAMP:20260422T022547Z
LOCATION:hg.osgrid.org:80:Club Exile
URL;VALUE=URI: http://opensimworld.com/event/133633
SUMMARY:disco time w ith  kennny  
END:VEVENT
END:VCALENDAR