BEGIN:VCALENDAR
VERSION:2.0
PRODID:-//hacksw/handcal//NONSGML v1.0//EN
CALSCALE:GREGORIAN
BEGIN:VEVENT
DTSTART:20260310T180000Z
DTEND:20260310T190000Z
UID:133625-opensimworld.com
DTSTAMP:20260422T022545Z
LOCATION:hg.osgrid.org:80:Club Exile
URL;VALUE=URI: http://opensimworld.com/event/133625
SUMMARY:TUESDAY  TUNES   WITH  DEJAY  KENNY  
END:VEVENT
END:VCALENDAR