BEGIN:VCALENDAR
VERSION:2.0
PRODID:-//hacksw/handcal//NONSGML v1.0//EN
CALSCALE:GREGORIAN
BEGIN:VEVENT
DTSTART:20260305T220000Z
DTEND:20260305T230000Z
UID:133435-opensimworld.com
DTSTAMP:20260422T022547Z
LOCATION:hg.osgrid.org:80:Club Exile
URL;VALUE=URI: http://opensimworld.com/event/133435
SUMMARY:rock n  roll  party  with  dj  kenny
END:VEVENT
END:VCALENDAR