BEGIN:VCALENDAR
VERSION:2.0
PRODID:-//hacksw/handcal//NONSGML v1.0//EN
CALSCALE:GREGORIAN
BEGIN:VEVENT
DTSTART:20260305T211000Z
DTEND:20260305T221000Z
UID:133434-opensimworld.com
DTSTAMP:20260422T022546Z
LOCATION:hg.osgrid.org:80:Club Exile
URL;VALUE=URI: http://opensimworld.com/event/133434
SUMMARY:50  ties party  with dj keny
END:VEVENT
END:VCALENDAR