BEGIN:VCALENDAR
VERSION:2.0
PRODID:-//hacksw/handcal//NONSGML v1.0//EN
CALSCALE:GREGORIAN
BEGIN:VEVENT
DTSTART:20260305T200000Z
DTEND:20260305T210000Z
UID:133431-opensimworld.com
DTSTAMP:20260422T022546Z
LOCATION:hg.osgrid.org:80:Club Exile
URL;VALUE=URI: http://opensimworld.com/event/133431
SUMMARY:ROCKN  ROLL TUNES  WITH  KENNY  
END:VEVENT
END:VCALENDAR