BEGIN:VCALENDAR
VERSION:2.0
PRODID:-//hacksw/handcal//NONSGML v1.0//EN
CALSCALE:GREGORIAN
BEGIN:VEVENT
DTSTART:20260305T190000Z
DTEND:20260305T200000Z
UID:133411-opensimworld.com
DTSTAMP:20260422T022545Z
LOCATION:hg.osgrid.org:80:Club Exile
URL;VALUE=URI: http://opensimworld.com/event/133411
SUMMARY: THUNDER THURS DAY IS  BACK rock n  roll  time  with  deejay  kenny     11am  slt 20,00cet
END:VEVENT
END:VCALENDAR