BEGIN:VCALENDAR
VERSION:2.0
PRODID:-//hacksw/handcal//NONSGML v1.0//EN
CALSCALE:GREGORIAN
BEGIN:VEVENT
DTSTART:20260301T190000Z
DTEND:20260301T200000Z
UID:133245-opensimworld.com
DTSTAMP:20260424T033116Z
LOCATION:hg.zetaworlds.com:80:SiLi
URL;VALUE=URI: http://opensimworld.com/event/133245
SUMMARY:Join Russell Eponym for an hour of musical entertainment
END:VEVENT
END:VCALENDAR