BEGIN:VCALENDAR
VERSION:2.0
PRODID:-//hacksw/handcal//NONSGML v1.0//EN
CALSCALE:GREGORIAN
BEGIN:VEVENT
DTSTART:20260226T185500Z
DTEND:20260226T195500Z
UID:133184-opensimworld.com
DTSTAMP:20260422T022548Z
LOCATION:hg.osgrid.org:80:Club Exile
URL;VALUE=URI: http://opensimworld.com/event/133184
SUMMARY:club  exile is back       thunder thursday  kenny  goes wild  start  11  am  slt   20,00 europ (  cet)
END:VEVENT
END:VCALENDAR